BEGIN:VCALENDAR
PRODID:-//eluceo/ical//2.0/EN
VERSION:2.0
CALSCALE:GREGORIAN
BEGIN:VEVENT
UID:2df520af2d0fae364f72dcbab88d8509
DTSTAMP:20260420T084917Z
SUMMARY:SEMINARIO ONLINE DE IMAGEN PÚBLICA DE ROTARY
DESCRIPTION:Orador(es): Sergio AlmeidaCoordinador Regional de Imagen Públi
 ca de Rotary para España y Portugal
URL:https://rotary2202.es/es/agenda/show/316
DTSTART;TZID=Europe/Zurich:20240222T180000
DTEND;TZID=Europe/Zurich:20240222T200000
LOCATION:SEMINARIOS ONLINE 2023-24
CATEGORIES:Rotary
END:VEVENT
BEGIN:VTIMEZONE
TZID:Europe/Zurich
BEGIN:STANDARD
DTSTART:20240222T180000
TZNAME:CET
TZOFFSETTO:+0100
TZOFFSETFROM:+0100
END:STANDARD
END:VTIMEZONE
END:VCALENDAR
