BEGIN:VCALENDAR
PRODID:-//eluceo/ical//2.0/EN
VERSION:2.0
CALSCALE:GREGORIAN
BEGIN:VEVENT
UID:7015f8aa5058cb500db6ef5c07f4942c
DTSTAMP:20260420T125415Z
SUMMARY:ROTARY GREEN MEETING TARRAGONA
DESCRIPTION:
URL:https://rotary2202.es/en/agenda/show/831
DTSTART;TZID=Europe/Zurich:20260314T090000
DTEND;TZID=Europe/Zurich:20260314T140000
LOCATION:Autoridad Portuària de Tarragona
CATEGORIES:Rotary
END:VEVENT
BEGIN:VTIMEZONE
TZID:Europe/Zurich
BEGIN:STANDARD
DTSTART:20260314T090000
TZNAME:CET
TZOFFSETTO:+0100
TZOFFSETFROM:+0100
END:STANDARD
END:VTIMEZONE
END:VCALENDAR
